BEGIN:VCALENDAR
VERSION:2.0
PRODID:-//Institut français du Liban - ECPv6.2.8.2//NONSGML v1.0//EN
CALSCALE:GREGORIAN
METHOD:PUBLISH
X-ORIGINAL-URL:https://institutfrancais-liban.com
X-WR-CALDESC:évènements pour Institut français du Liban
REFRESH-INTERVAL;VALUE=DURATION:PT1H
X-Robots-Tag:noindex
X-PUBLISHED-TTL:PT1H
BEGIN:VTIMEZONE
TZID:Asia/Beirut
BEGIN:DAYLIGHT
TZOFFSETFROM:+0200
TZOFFSETTO:+0300
TZNAME:EEST
DTSTART:20240330T220000
END:DAYLIGHT
BEGIN:STANDARD
TZOFFSETFROM:+0300
TZOFFSETTO:+0200
TZNAME:EET
DTSTART:20241026T210000
END:STANDARD
END:VTIMEZONE
BEGIN:VEVENT
DTSTART;TZID=Asia/Beirut:20240212T080000
DTEND;TZID=Asia/Beirut:20240224T170000
DTSTAMP:20260420T034756
CREATED:20240208T075040Z
LAST-MODIFIED:20240226T154345Z
UID:10001162-1707724800-1708794000@institutfrancais-liban.com
SUMMARY:Concours de lecture à voix haute ouvert à tous !
DESCRIPTION:CONCOURS DE LECTURE À VOIX-HAUTE\nÀ l’occasion du Mois de la Francophonie de mars 2024\, le réseau des 6 médiathèques de l’Institut français du Liban* organisent un concours de lecture à voix-haute sur le thème du « Vivant ! ». \nLe concours s’adresse aux lecteurs de tous âges : 8-12 ans (enfants)\, 13-18 ans (adolescents) et plus de 18 ans (adultes). Les participants sont invités à choisir un livre dans la médiathèque de leur région  sur le thème de la protection de la nature\, de la biodiversité\, du développement durable\, « Vivant ! » étant le grand thème du Mois de la francophonie 2024 au Liban. \n \nUne fois son extrait choisi\, chaque participant le lira face caméra et enverra sa vidéo à la médiathèque de sa région. Attention\, nous arrêterons les inscriptions aux 150 premiers formulaires remplis pour chacune des 6 médiathèques ! \nChaque médiathèque choisira ses meilleures lectures et sélectionnera : \n🥇10 finalistes par catégorie d'âge qui viendront lire leur texte sur scène pour remporter le prix du jury de 30$ en bons d’achat en librairie.\n🥈 3 finalistes par catégorie pour le prix Instagram de 15$ en bons d’achat en librairie.\n🥉 3 finalistes par catégorie d’âge pour le prix Facebook de 15$ en bons d’achat en librairie. \n* Beyrouth\, Tripoli\, Jounieh\, Zahlé\, Deir El Qamar et Saida \nINSCRIVEZ-VOUS ICI
URL:https://institutfrancais-liban.com/evenement/concours-lecture-a-voix-haute-8-88-ans/
LOCATION:En ligne\, Liban
CATEGORIES:Médiathèque
ATTACH;FMTTYPE=image/png:https://institutfrancais-liban.com/wp-content/uploads/2024/02/Entete-event-site-960-x-400-px-5.png
END:VEVENT
BEGIN:VEVENT
DTSTART;TZID=Asia/Beirut:20240224T100000
DTEND;TZID=Asia/Beirut:20240224T190000
DTSTAMP:20260420T034756
CREATED:20240209T072617Z
LAST-MODIFIED:20240217T101856Z
UID:10001163-1708768800-1708801200@institutfrancais-liban.com
SUMMARY:Le rendez-vous des enfants !
DESCRIPTION:« Le rendez-vous des enfants ! » \n🧚‍♀️L’Institut français du Liban lance le samedi 24 février 2024 le « Rendez-vous des enfants ». Serge.bloch\, l’auteur renommé des séries « Max et Lili »\, « Samsam »\, et « Zouk la sorcière »\, sera l’invité d’honneur de cette journée spécialement dédiée aux 7 à 77 ans ! Il est également l'artiste derrière l’affiche de l’événement\, où l'on voit Max et Lili se préparant pour leur voyage à Beyrouth. \n \n✍✨🎬🎲Avec une programmation variée\, mêlant des projections de cinéma\, des ateliers de dessin et de bande dessinée\, des contes musicaux\, des séances de jeux de société\, un grand atelier animé par Serge Bloch\, et une finale en musique avec une boom disco pour les plus petits\, cette journée vise à offrir au jeune public et à leurs familles l'opportunité de se détendre\, rêver et renouer avec la culture et les pratiques artistiques dans un contexte particulièrement complexe. \nAux côtés de Serge Bloch\, le collectif Mazza (Illustration et Bande dessinée)\, le bar à jeux « On board »\, et le groupe Blue Beirut Kids seront présents pour animer la journée. Deux projections de film seront également proposées au cinéma Montaigne avec « La fameuse invasion des ours en Sicile » et « Astérix et Obélix : L’empire du milieu ». \n✨Cliquez ici pour découvrir le programme détaillé !\n🥰Toute l’équipe est impatiente de vous retrouver ! \nSAMEDI 24 FÉVRIER DE 10H À 19H\nÀ L'INSTITUT FRANÇAIS DU LIBAN\, BEYROUTH\nRUE DE DAMAS \nEntrée libre sans réservation ! \n  \n \n \n 
URL:https://institutfrancais-liban.com/evenement/le-rendez-vous-des-enfants/
LOCATION:Institut français du liban\, Beyrouth\, Rue de Damas\, Beyrouth\, Liban
CATEGORIES:Jeune Public
ATTACH;FMTTYPE=image/png:https://institutfrancais-liban.com/wp-content/uploads/2024/02/Entete-event-site-960-x-400-px-2-2.png
END:VEVENT
END:VCALENDAR