BEGIN:VCALENDAR
VERSION:2.0
PRODID:-//Institut français du Liban - ECPv6.2.8.2//NONSGML v1.0//EN
CALSCALE:GREGORIAN
METHOD:PUBLISH
X-WR-CALNAME:Institut français du Liban
X-ORIGINAL-URL:https://institutfrancais-liban.com
X-WR-CALDESC:évènements pour Institut français du Liban
REFRESH-INTERVAL;VALUE=DURATION:PT1H
X-Robots-Tag:noindex
X-PUBLISHED-TTL:PT1H
BEGIN:VTIMEZONE
TZID:Asia/Beirut
BEGIN:DAYLIGHT
TZOFFSETFROM:+0200
TZOFFSETTO:+0300
TZNAME:EEST
DTSTART:20240330T220000
END:DAYLIGHT
BEGIN:STANDARD
TZOFFSETFROM:+0300
TZOFFSETTO:+0200
TZNAME:EET
DTSTART:20241026T210000
END:STANDARD
END:VTIMEZONE
BEGIN:VEVENT
DTSTART;VALUE=DATE:20240301
DTEND;VALUE=DATE:20240321
DTSTAMP:20260419T180152
CREATED:20240229T123407Z
LAST-MODIFIED:20240313T172705Z
UID:10001210-1709251200-1710979199@institutfrancais-liban.com
SUMMARY:Journée de la Francophonie à Beyrouth !
DESCRIPTION:Dans le cadre du mois de la Francophonie et de la réouverture de la Salle Montaigne\, l’Institut français du Liban organise le 20 mars la journée de la Francophonie autour de la thématique du « vivant ».\nMercredi 20 mars \n11h-20h : Exposition\n"Le Monde sans fin"\nEntrée libre sans réservation \n17h : Spectacle jeunesse \n"Géologie d'une fable"\nAttention : réservation obligatoire\, cliquez ici pour vous inscrire \n20h : Avant-première au Liban du film multiprimé aux césars 2024 \n"Le Règne animal" \nEntrée libre sans réservation \nInstitut français du Liban\nRue de Damas\, Beyrouth \n  \nAu programme : \n11h-20h : Exposition "Le Monde sans fin"\n \n \nL’exposition “Le monde sans fin” synthétise le propos de l’album de bande dessinée du même nom\, dans lequel le dessinateur Christophe Blain et le spécialiste des questions énergétiques Jean-Marc Jancovici font le tour des tenants et aboutissants de la crise climatique. \nDans sa version beyrouthine\, l’exposition\, scénographiée en collaboration avec les étudiants en design de l’Académie Libanaise des Beaux-Arts\, sera produite avec des matériaux et objets de récupération\, et son contenu sera enrichi par un chapitre traitant plus particulièrement du Liban\, réalisé par le commissaire de l’exposition\, Ralph Doumit. \nDu 20/03 au 12/05\nDu lundi au vendredi 11h -17h\nInstitut français du Liban - Beyrouth\nEntrée libre sans réservation\nPlus d'informations : bureaudulivre@if-liban.com \n17h : Spectacle jeunesse : Géologie d'une fable \nATTENTION : RÉSERVATION OBLIGATOIRE. CLIQUEZ ICI POUR VOUS INSCRIRE. \n \nGéologie d'une fable est un projet de création pour le jeune public conçu et interprété par Aurélien Zouki et Éric Deniaud. La pièce associe le conte\, la danse\, la manipulation d'objets et de sons. L'élément central est l'argile en plaques superposées\, en tas\, en blocs\, en bas-relief\, modelée en direct\, etc. qui donne vie à des figures et des espaces. C'est à partir de cette matière première que les deux interprètes construisent la généalogie des fables et de leurs origines. \n \nConception\, scénographie\, jeu : Aurélien Zouki et Éric Deniaud\nCréation sonore : Emmanuel Zouki\nTechnique : Tamara Baddredine\nDurée du spectacle : 45 mn\nÀ partir de 6 ans \n  \n20h : Avant première au Liban du film multiprimé aux césars 2024 "Le Règne animal" \n \nDe Thomas Cailley | 2023 | 2h 10min | Aventure\, Drame\, Fantastique\nAvec Romain Duris\, Paul Kircher\, Adèle Exarchopoulos\nFrançais sous-titré arabe \nAvertissement : des scènes\, des propos ou des images peuvent heurter la sensibilité des spectateurs \n \nDans un monde en proie à une vague de mutations qui transforment peu à peu certains humains en animaux\, François fait tout pour sauver sa femme\, touchée par ce phénomène mystérieux. Alors que la région se peuple de créatures d'un nouveau genre\, il embarque Émile\, leur fils de 16 ans\, dans une quête qui bouleversera à jamais leur existence. \n  \nRendez-vous mercredi 20 mars à l'Institut français du Liban ! \n  \n \n  \n 
URL:https://institutfrancais-liban.com/evenement/journee-de-la-francophonie-reouverture-salle-montaigne/
LOCATION:Institut français du liban\, Beyrouth\, Rue de Damas\, Beyrouth\, Liban
CATEGORIES:Temps fort,Théâtre
ATTACH;FMTTYPE=image/png:https://institutfrancais-liban.com/wp-content/uploads/2024/02/Entete-event-site-960-x-400-px-10.png
END:VEVENT
BEGIN:VEVENT
DTSTART;TZID=Asia/Beirut:20240301T190000
DTEND;TZID=Asia/Beirut:20240322T190000
DTSTAMP:20260419T180152
CREATED:20240222T174551Z
LAST-MODIFIED:20240222T174752Z
UID:10001188-1709319600-1711134000@institutfrancais-liban.com
SUMMARY:Ciné Al Qamar spécial Mois de la Francophonie/Le vivant
DESCRIPTION:Pour le Mois de la Francophonie\, le Ciné Al Qamar vous propose de découvrir 3 films en lien avec la thématique du vivant et de la défense de l’environnement !\nTous les vendredis à 19h\, les 8\, 15 et 22/03 : \nVendredi 1er mars - 19h\n"Notre Pays Lointain" de Camille Brunel et Malek Fleifel\n\n \nVendredi 8 mars - 19h\n"Rouge" de Farid Bentoumi\n\n \nVendredi 15 mars - 19h\n"La Panthère des Neiges" de Marie Amiguet et Vincent Munier\n\n \nVendredi 22 mars - 19h\n"Animal" de Cyril Dion\n\n \nInstitut français du Liban - Deir El Qamar\nEntrée libre\, plus d’informations au 25 510 016\nTout public
URL:https://institutfrancais-liban.com/evenement/cine-al-qamar-special-mois-de-la-francophonie-le-vivant/
LOCATION:Institut français du Liban\, Deir El Qamar\, Deir El Qamar\, Liban
CATEGORIES:Cinéma
ATTACH;FMTTYPE=image/png:https://institutfrancais-liban.com/wp-content/uploads/2024/02/Entete-event-site-960-x-400-px-9.png
END:VEVENT
END:VCALENDAR