BEGIN:VCALENDAR
VERSION:2.0
PRODID:-//Institut français du Liban - ECPv6.2.8.2//NONSGML v1.0//EN
CALSCALE:GREGORIAN
METHOD:PUBLISH
X-WR-CALNAME:Institut français du Liban
X-ORIGINAL-URL:https://institutfrancais-liban.com
X-WR-CALDESC:évènements pour Institut français du Liban
REFRESH-INTERVAL;VALUE=DURATION:PT1H
X-Robots-Tag:noindex
X-PUBLISHED-TTL:PT1H
BEGIN:VTIMEZONE
TZID:Asia/Beirut
BEGIN:DAYLIGHT
TZOFFSETFROM:+0200
TZOFFSETTO:+0300
TZNAME:EEST
DTSTART:20240330T220000
END:DAYLIGHT
BEGIN:STANDARD
TZOFFSETFROM:+0300
TZOFFSETTO:+0200
TZNAME:EET
DTSTART:20241026T210000
END:STANDARD
END:VTIMEZONE
BEGIN:VEVENT
DTSTART;VALUE=DATE:20240301
DTEND;VALUE=DATE:20240321
DTSTAMP:20260419T181111
CREATED:20240229T123407Z
LAST-MODIFIED:20240313T172705Z
UID:10001210-1709251200-1710979199@institutfrancais-liban.com
SUMMARY:Journée de la Francophonie à Beyrouth !
DESCRIPTION:Dans le cadre du mois de la Francophonie et de la réouverture de la Salle Montaigne\, l’Institut français du Liban organise le 20 mars la journée de la Francophonie autour de la thématique du « vivant ».\nMercredi 20 mars \n11h-20h : Exposition\n"Le Monde sans fin"\nEntrée libre sans réservation \n17h : Spectacle jeunesse \n"Géologie d'une fable"\nAttention : réservation obligatoire\, cliquez ici pour vous inscrire \n20h : Avant-première au Liban du film multiprimé aux césars 2024 \n"Le Règne animal" \nEntrée libre sans réservation \nInstitut français du Liban\nRue de Damas\, Beyrouth \n  \nAu programme : \n11h-20h : Exposition "Le Monde sans fin"\n \n \nL’exposition “Le monde sans fin” synthétise le propos de l’album de bande dessinée du même nom\, dans lequel le dessinateur Christophe Blain et le spécialiste des questions énergétiques Jean-Marc Jancovici font le tour des tenants et aboutissants de la crise climatique. \nDans sa version beyrouthine\, l’exposition\, scénographiée en collaboration avec les étudiants en design de l’Académie Libanaise des Beaux-Arts\, sera produite avec des matériaux et objets de récupération\, et son contenu sera enrichi par un chapitre traitant plus particulièrement du Liban\, réalisé par le commissaire de l’exposition\, Ralph Doumit. \nDu 20/03 au 12/05\nDu lundi au vendredi 11h -17h\nInstitut français du Liban - Beyrouth\nEntrée libre sans réservation\nPlus d'informations : bureaudulivre@if-liban.com \n17h : Spectacle jeunesse : Géologie d'une fable \nATTENTION : RÉSERVATION OBLIGATOIRE. CLIQUEZ ICI POUR VOUS INSCRIRE. \n \nGéologie d'une fable est un projet de création pour le jeune public conçu et interprété par Aurélien Zouki et Éric Deniaud. La pièce associe le conte\, la danse\, la manipulation d'objets et de sons. L'élément central est l'argile en plaques superposées\, en tas\, en blocs\, en bas-relief\, modelée en direct\, etc. qui donne vie à des figures et des espaces. C'est à partir de cette matière première que les deux interprètes construisent la généalogie des fables et de leurs origines. \n \nConception\, scénographie\, jeu : Aurélien Zouki et Éric Deniaud\nCréation sonore : Emmanuel Zouki\nTechnique : Tamara Baddredine\nDurée du spectacle : 45 mn\nÀ partir de 6 ans \n  \n20h : Avant première au Liban du film multiprimé aux césars 2024 "Le Règne animal" \n \nDe Thomas Cailley | 2023 | 2h 10min | Aventure\, Drame\, Fantastique\nAvec Romain Duris\, Paul Kircher\, Adèle Exarchopoulos\nFrançais sous-titré arabe \nAvertissement : des scènes\, des propos ou des images peuvent heurter la sensibilité des spectateurs \n \nDans un monde en proie à une vague de mutations qui transforment peu à peu certains humains en animaux\, François fait tout pour sauver sa femme\, touchée par ce phénomène mystérieux. Alors que la région se peuple de créatures d'un nouveau genre\, il embarque Émile\, leur fils de 16 ans\, dans une quête qui bouleversera à jamais leur existence. \n  \nRendez-vous mercredi 20 mars à l'Institut français du Liban ! \n  \n \n  \n 
URL:https://institutfrancais-liban.com/evenement/journee-de-la-francophonie-reouverture-salle-montaigne/
LOCATION:Institut français du liban\, Beyrouth\, Rue de Damas\, Beyrouth\, Liban
CATEGORIES:Temps fort,Théâtre
ATTACH;FMTTYPE=image/png:https://institutfrancais-liban.com/wp-content/uploads/2024/02/Entete-event-site-960-x-400-px-10.png
END:VEVENT
BEGIN:VEVENT
DTSTART;TZID=Asia/Beirut:20240301T190000
DTEND;TZID=Asia/Beirut:20240322T190000
DTSTAMP:20260419T181111
CREATED:20240222T174551Z
LAST-MODIFIED:20240222T174752Z
UID:10001188-1709319600-1711134000@institutfrancais-liban.com
SUMMARY:Ciné Al Qamar spécial Mois de la Francophonie/Le vivant
DESCRIPTION:Pour le Mois de la Francophonie\, le Ciné Al Qamar vous propose de découvrir 3 films en lien avec la thématique du vivant et de la défense de l’environnement !\nTous les vendredis à 19h\, les 8\, 15 et 22/03 : \nVendredi 1er mars - 19h\n"Notre Pays Lointain" de Camille Brunel et Malek Fleifel\n\n \nVendredi 8 mars - 19h\n"Rouge" de Farid Bentoumi\n\n \nVendredi 15 mars - 19h\n"La Panthère des Neiges" de Marie Amiguet et Vincent Munier\n\n \nVendredi 22 mars - 19h\n"Animal" de Cyril Dion\n\n \nInstitut français du Liban - Deir El Qamar\nEntrée libre\, plus d’informations au 25 510 016\nTout public
URL:https://institutfrancais-liban.com/evenement/cine-al-qamar-special-mois-de-la-francophonie-le-vivant/
LOCATION:Institut français du Liban\, Deir El Qamar\, Deir El Qamar\, Liban
CATEGORIES:Cinéma
ATTACH;FMTTYPE=image/png:https://institutfrancais-liban.com/wp-content/uploads/2024/02/Entete-event-site-960-x-400-px-9.png
END:VEVENT
BEGIN:VEVENT
DTSTART;VALUE=DATE:20240302
DTEND;VALUE=DATE:20240420
DTSTAMP:20260419T181111
CREATED:20240222T163945Z
LAST-MODIFIED:20240226T105352Z
UID:10001184-1709337600-1713571199@institutfrancais-liban.com
SUMMARY:Contes en musique – Blue Beirut Kids
DESCRIPTION:Un spectacle de lectures en musique sur le thème de la faune et de la flore\, dès 3 ans !\nLa chanteuse et les musiciens du groupe Blue Beirut Kids prêtent leurs voix aux personnages des contes. Ils ont composé et adapté différentes œuvres musicales pour illustrer leurs contes préférés.\nVenez partager avec vos enfants un moment tendre et drôle ! \nCi-dessous les dates de la tournée des Blue Beirut Kids au Liban : \nSamedi 2 mars\nInstitut français du Liban - Saïda \n10h : 3-5 ans\n11h : 6-10 ans\nEntrée libre sur réservation : sud@if-liban.com \nSamedi 2 mars\nMédiathèque municipale de Jezzine\n15h : 3-5 ans\n16h : 6 ans-10 ans\nEntrée libre sur réservation :  \nSamedi 9 mars \nInstitut français du Liban - Jounieh\n10h : 3-5 ans\n11h : 6-10 ans\nEntrée libre sur réservation : info.ifjounieh@if-liban.com / WhatsApp au 71 086 029 \nSamedi 16 mars \nAssociation sociale – Chehim\n15h : 3-5 ans\n16h : 6-10 ans\nEntrée libre sur réservation : 25 510 016 \nVendredi 22 mars\nInstitut français du Liban - Baalbeck\n16h : 3-5 ans\n17h : 6-10 ans\nEntrée libre sur réservation : 70 273 549 \nSamedi 23 mars\nInstitut français du Liban - Zahlé\n13h : 3-5 ans\n14h : 6-10 ans\nEntrée libre sur réservation : 70 273 549 \nVendredi 19 avril \nInstitut français du Liban - Tripoli\n16h : 3-5 ans\n17h : 6-10 ans\nEntrée libre sur réservation : tripoli@if-liban.com / 06442591 \n \nProgramme : \n> Pour les 3-5 ans avec les contes La Moufle\, Le Vilain petit canard et Rouge Matou (en français) \n> Pour les 6-10 ans avec les contes Le Gros Navet (en arabe)\, Pierre et le Loup\, Qu'est-ce que je vois ? (en français) \n  \nBlue Beirut Kids : \nSahar\, lecture/chant \nCédric\, lecture/clarinette/percussions \nChristophe\, lecture/guitare \nStéphane\, guitare basse
URL:https://institutfrancais-liban.com/evenement/contes-en-musique-blue-beirut-kids/
LOCATION:DANS TOUT LE LIBAN !\, Liban
CATEGORIES:Musique
ATTACH;FMTTYPE=image/png:https://institutfrancais-liban.com/wp-content/uploads/2024/02/FRANCOPHONIE2024-ENTETE-SITE.png
END:VEVENT
BEGIN:VEVENT
DTSTART;VALUE=DATE:20240302
DTEND;VALUE=DATE:20240324
DTSTAMP:20260419T181111
CREATED:20240226T100320Z
LAST-MODIFIED:20240226T100401Z
UID:10001193-1709337600-1711238399@institutfrancais-liban.com
SUMMARY:Les samedis Jeunesse francophone – des ateliers pour les enfants et les ados
DESCRIPTION:Chaque samedi\, nous invitons les enfants de 3 à 15 ans à découvrir les thématiques mises à l’honneur cette année durant le Mois de la Francophonie au Liban : le vivant\, le sport et bien sûr la langue française ! Venez apprendre en jouant grâce des activités variées mêlant lecture\, cinéma\, bricolage\, jeux sportifs\, etc.\nRendez-vous à l'Institut français du Liban - Deir El Qamar ! \nAu programme : \nSamedi 2/03 11h – Ciné documentaire L'hippocampe de Jean Painlevé\nSamedi 2/03 15h – Les Animachous : Bricolage upcycling\, fabriquer une mangeoire à oiseaux\nSamedi 9/03 15h – Les Animachous : Jeux de relais et parcours sportifs\nSamedi 16/03 11h – Atelier Fresques du climat (jeune public)\nSamedi 23/03 15h – Les Animachous : A la découverte des villes francophones \nRéservation obligatoire et + d’infos au 25 510 016.  \nAttention : les ateliers Animachous sont ouverts aux 3-7 ans et sont payants : 5€/10€.
URL:https://institutfrancais-liban.com/evenement/les-samedis-jeunesse-francophone-des-ateliers-pour-les-enfants-et-les-ados/
LOCATION:Institut français du Liban\, Deir El Qamar\, Deir El Qamar\, Liban
CATEGORIES:Jeune Public
ATTACH;FMTTYPE=image/png:https://institutfrancais-liban.com/wp-content/uploads/2024/02/8.png
END:VEVENT
BEGIN:VEVENT
DTSTART;VALUE=DATE:20240302
DTEND;VALUE=DATE:20240327
DTSTAMP:20260419T181111
CREATED:20240226T104310Z
LAST-MODIFIED:20240229T093213Z
UID:10001194-1709337600-1711497599@institutfrancais-liban.com
SUMMARY:On joue ! Jeux de société avec On Board
DESCRIPTION:Dans le cadre du mois de la francophonie\, ''On Board''\, bar à jeux de société implanté à Hamra et Naccache\, entame une tournée à travers les médiathèques de l'Institut français du Liban à Tripoli\, Zahlé\, Jounieh\, Deir el Qamar et Saïda. Petits et grands sont invités à se joindre à eux pour découvrir une variété de jeux divertissants. Une excellente occasion de se déconnecter et de partager un moment agréable en famille ou entre amis !\nTout public \nCi-dessous les dates de la tournée de On Board : \nSamedi 2 mars - 12h30\nInstitut français du Liban - Jounieh\nEntrée libre sur réservation : info.ifjounieh@if-liban.com / WhatsApp au 71 086 029 \nMercredi 6 mars - 15h\nInstitut français du Liban - Saïda \nEntrée libre sur réservation : sud@if-liban.com \nVendredi 15 mars - 14h30\nInstitut français du Liban - Tripoli\nEntrée libre sur réservation : tripoli@if-liban.com / 06442591 \nSamedi 23 mars - 11h\nInstitut français du Liban - Deir El Qamar\nEntrée libre sur réservation : 25 510 016 \nSamedi 26 mars - 16h\nInstitut français du Liban - Zahlé\nEntrée libre sur réservation : 70 273 549
URL:https://institutfrancais-liban.com/evenement/on-joue-jeux-de-societe-avec-on-board/
LOCATION:DANS TOUT LE LIBAN !\, Liban
CATEGORIES:Atelier
ATTACH;FMTTYPE=image/png:https://institutfrancais-liban.com/wp-content/uploads/2024/02/FRANCOPHONIE2024-ENTETE-SITE-4.png
END:VEVENT
BEGIN:VEVENT
DTSTART;VALUE=DATE:20240306
DTEND;VALUE=DATE:20240321
DTSTAMP:20260419T181111
CREATED:20240226T195204Z
LAST-MODIFIED:20240226T195204Z
UID:10001200-1709683200-1710979199@institutfrancais-liban.com
SUMMARY:Cinéma dans la Békaa
DESCRIPTION:Cinéma dans la Békaa\nLe mercredi 6 mars - 18h \nInstitut français du Liban - Zahlé\nEntrée libre sur réservations 70 273 549\n \nLa Croisade\nde Louis Garrel• 2021• 1h07• Comédie\n\nAbel et Marianne découvrent que leur fils Joseph\, 13 ans\, a vendu en douce leurs objets les plus précieux. Ils comprennent rapidement que Joseph n’est pas le seul\, ils sont des centaines d’enfants à travers le monde associés pour financer un mystérieux projet. Ils se sont donnés pour mission de sauver la planète. \n  \nMercredi 13 mars - 16h30\nInstitut français du Liban - Zahlé \nEntrée libre sur réservations 70 273 549 \nLe voyage du prince \nde Jean-François Laguionie • 2019• 1h16 • Aventure\, Jeune public - à partir de 8 ans\n\nUn vieux Prince échoue sur un rivage inconnu. Blessé et perdu\, il est retrouvé par le jeune Tom et recueilli par ses parents\, deux chercheurs dissidents qui ont osé croire à l’existence d’autres peuples... Le Prince guidé par son ami Tom\, découvre avec enthousiasme et fascination\, cette société pourtant figée et sclérosée. Pendant ce temps\, le couple de chercheurs rêve de convaincre l’Académie de la véracité de leur thèse auparavant rejetée... \n  \nJeudi 14 mars - 16h\nInstitut français du Liban - Baalbeck\nEntrée gratuite sur réservations 78 973 359 \nLe voyage du prince \nde Jean-François Laguionie • 2019• 1h16 • Aventure\, Jeune public - à partir de 8 ans\n\nUn vieux Prince échoue sur un rivage inconnu. Blessé et perdu\, il est retrouvé par le jeune Tom et recueilli par ses parents\, deux chercheurs dissidents qui ont osé croire à l’existence d’autres peuples... Le Prince guidé par son ami Tom\, découvre avec enthousiasme et fascination\, cette société pourtant figée et sclérosée. Pendant ce temps\, le couple de chercheurs rêve de convaincre l’Académie de la véracité de leur thèse auparavant rejetée... \n  \nMercredi 20 mars - 18h\nInstitut français du Liban - Zahlé\nEntrée gratuite sur réservations 70 273 549\n \nBigger than us \nde Flore Vasseur • 2020 • 1h36 •\n\nDepuis 6 ans\, Melati\, 18 ans combat la pollution plastique qui ravage son pays l’Indonésie. Comme elle\, une génération se lève pour réparer le monde…
URL:https://institutfrancais-liban.com/evenement/cinema-dans-la-bekaa/
LOCATION:Institut français du Liban\, Békaa\, Liban
CATEGORIES:Cinéma
ATTACH;FMTTYPE=image/png:https://institutfrancais-liban.com/wp-content/uploads/2024/02/FRANCOPHONIE2024-ENTETE-SITE-5.png
END:VEVENT
BEGIN:VEVENT
DTSTART;VALUE=DATE:20240313
DTEND;VALUE=DATE:20240425
DTSTAMP:20260419T181111
CREATED:20240221T122219Z
LAST-MODIFIED:20240313T172813Z
UID:10001182-1710288000-1714003199@institutfrancais-liban.com
SUMMARY:Exposition "Le Liban\, trésor de biodiversité !"
DESCRIPTION:Des cèdres\, oui\, mais pas seulement ! Une exposition pour découvrir\, à travers l’œil de jeunes photographes libanais\, des trésors surprenants : animaux\, insectes\, plantes et champignons\, qu’on ne trouve parfois nulle part ailleurs qu’au Liban.\nRetrouvez cette exposition sur l'ensemble du territoire libanais :\nDu vendredi 1er au dimanche 31 mars\nInstitut français du Liban - Deir El Qamar\nDu mardi au samedi de 9h à 13h et 14h à 17h\nEntrée libre sans réservation\nPlus d'informations : 25 510 016 \nDu vendredi 1er au dimanche 31 mars\nInstitut français du Liban - Jounieh\nDu lundi au vendredi de 9h à 14h\nEntrée libre sans réservation\nPlus d'informations : info.ifjounieh@if-liban.com / WhatsApp au 71 086 029 \nDu vendredi 1er au dimanche 31 mars\nInstitut français du Liban - Saïda\nDu lundi au jeudi de 10h à 16h30\nLe samedi de 9h à 14h\nEntrée libre sans réservation\nPlus d'informations : sud@if-liban.com \nDu mardi 5 au mercredi 27 mars\nInstitut français du Liban - Zahlé\nDu mardi au vendredi de 9h à 13h et 14h30 à 17h\nEntrée libre sans réservation\nPlus d'informations : 70 273 549 \nDu jeudi 28 mars au mardi 28 mai\nInstitut français du Liban - Baalbeck\nDu mardi au vendredi de 10h à 14h et 15h à 18h\nEntrée libre sans réservation\nPlus d'informations : 70 273 549 \nDu vendredi 29 mars au vendredi 12 avril\nInstitut français du Liban - Tripoli\nDu mardi au vendredi de 9h à 15h\nEntrée libre sans réservation\nPlus d'informations : tripoli@if-liban.com / 06442591 \n  \n \nEn partenariat avec Lebanon Eco mouvement
URL:https://institutfrancais-liban.com/evenement/exposition-biodiversite/
LOCATION:DANS TOUT LE LIBAN !\, Liban
CATEGORIES:Exposition
ATTACH;FMTTYPE=image/png:https://institutfrancais-liban.com/wp-content/uploads/2024/02/Entete-event-site-960-x-400-px-5-1.png
END:VEVENT
BEGIN:VEVENT
DTSTART;VALUE=DATE:20240313
DTEND;VALUE=DATE:20240413
DTSTAMP:20260419T181111
CREATED:20240226T094531Z
LAST-MODIFIED:20240313T172900Z
UID:10001192-1710288000-1712966399@institutfrancais-liban.com
SUMMARY:Exposition "Histoire\, Sport & Citoyenneté"
DESCRIPTION:Cette année\, la flamme des Jeux Olympiques et Paralympiques sera encore plus ardente que d'habitude car les JO se tiennent à Paris\, Ville Lumière par excellence !\n\n\nÀ cette occasion\, l'Institut français du Liban à Deir El Qamar vous invite à l'exposition "Histoire\, Sport & Citoyenneté" qui trace et relate 125 années d'histoire de sport et de valeurs humaines.\n\n\nL'exposition rend également hommage aux athlètes libanais qui ont participé aux JO : une première dans l'histoire du sport au Liban !\n\n\nLe vernissage de l'exposition aura lieu le 1er mars à 17h à l'Institut français du Liban de Deir El Qamar dans le cadre de la soirée de lancement du Mois de la Francophonie.\n\n\nInstitut français du Liban - Deir El Qamar\n\n\nEntrée libre et gratuite.\nNous vous attendons nombreux !
URL:https://institutfrancais-liban.com/evenement/histoire-sport-citoyennete-2/
LOCATION:Institut français du Liban\, Deir El Qamar\, Deir El Qamar\, Liban
CATEGORIES:Exposition
ATTACH;FMTTYPE=image/png:https://institutfrancais-liban.com/wp-content/uploads/2024/02/histoire-sport-et-citoyennete.jpg.png
END:VEVENT
BEGIN:VEVENT
DTSTART;VALUE=DATE:20240315
DTEND;VALUE=DATE:20240412
DTSTAMP:20260419T181111
CREATED:20240222T155327Z
LAST-MODIFIED:20240313T173056Z
UID:10001185-1710460800-1712879999@institutfrancais-liban.com
SUMMARY:Rencontre signature avec Antoine Daher autour de son roman "Vent du Nord"
DESCRIPTION:A l’occasion du Mois de la francophonie 2024\, l’Institut français du Liban vous invite à la signature du roman Vent du Nord : récit d’une fugue dans les montagnes du Liban\, en compagnie de son auteur Antoine Daher.\nNé en 1955\, Antoine Daher est actuellement médecin urologue à Kobayat\, mais aussi activiste culturel et défenseur de l’environnement\, notamment à travers l’ONG Conseil de l’environnement localisée dans les hauteurs du Akkar. Vent du nord est son premier roman. \nRetrouvez Antoine Daher sur l'ensemble du territoire libanais : \nVendredi 1er mars - 16h :\nMédiathèque de l'Institut français du Liban - Tripoli\nEntrée libre sans réservation\nPlus d'informations : tripoli@if-liban.com / 06442591 \nJeudi 7 mars - 17h :\nMusée du Savon - Saïda\nEntrée libre sans réservation\nPlus d'informations : \nJeudi 14 mars - 17h :\nInstitut français du Liban - Deir El Qamar \nEntrée libre sans réservation\nPlus d'informations : 25 510 016 \nJeudi 21 mars - 10h :\nEcole des filles de la charité de Zouk Mikael - Jounieh\nEntrée libre sans réservation\nPlus d'informations : info.ifjounieh@if-liban.com / WhatsApp au 71 086 029 \nJeudi 28 mars - 17h :\nInstitut français du Liban - Baalbeck\nEntrée libre sans réservation\nPlus d'informations : 70 273 549 \n \n 
URL:https://institutfrancais-liban.com/evenement/rencontre-signature-avec-antoine-daher-autour-de-son-romainvent-du-nord/
LOCATION:DANS TOUT LE LIBAN !\, Liban
CATEGORIES:Littérature
ATTACH;FMTTYPE=image/png:https://institutfrancais-liban.com/wp-content/uploads/2024/02/Entete-event-site-960-x-400-px-4-1.png
END:VEVENT
BEGIN:VEVENT
DTSTART;VALUE=DATE:20240320
DTEND;VALUE=DATE:20240516
DTSTAMP:20260419T181111
CREATED:20240227T162104Z
LAST-MODIFIED:20240515T183436Z
UID:10001195-1710892800-1715817599@institutfrancais-liban.com
SUMMARY:Exposition "Le monde sans fin"
DESCRIPTION:L’exposition “Le monde sans fin” synthétise le propos de l’album de bande dessinée du même nom\, dans lequel le dessinateur Christophe Blain et le spécialiste des questions énergétiques Jean-Marc Jancovici font le tour des tenants et aboutissants de la crise climatique.\nDans sa version beyrouthine\, l’exposition\, scénographiée en collaboration avec les étudiants en design de l’Académie Libanaise des Beaux-Arts\, sera produite avec des matériaux et objets de récupération\, et son contenu sera enrichi par un chapitre traitant plus particulièrement du Liban\, réalisé par le commissaire de l’exposition\, Ralph Doumit. \nDu 20/03 au 17/05\nDu lundi au vendredi 11h -17h\nInstitut français du Liban - Beyrouth\nEntrée libre sans réservation\nPlus d'informations : bureaudulivre@if-liban.com
URL:https://institutfrancais-liban.com/evenement/exposition-le-monde-sans-fin/
LOCATION:Institut français du liban\, Beyrouth\, Rue de Damas\, Beyrouth\, Liban
CATEGORIES:Exposition,Littérature,Livre et débats d’idées
ATTACH;FMTTYPE=image/png:https://institutfrancais-liban.com/wp-content/uploads/2024/02/Entete-event-site-960-x-400-px-11.png
END:VEVENT
BEGIN:VEVENT
DTSTART;TZID=Asia/Beirut:20240320T150000
DTEND;TZID=Asia/Beirut:20240320T170000
DTSTAMP:20260419T181111
CREATED:20240227T165559Z
LAST-MODIFIED:20240227T170302Z
UID:10001208-1710946800-1710954000@institutfrancais-liban.com
SUMMARY:Rencontre littéraire avec Jean-Baptiste Andrea\, Prix Goncourt 2023
DESCRIPTION:Rencontre littéraire avec Jean-Baptiste Andrea\, Prix Goncourt 2023 \nMercredi 20 mars - 15h\nEn ligne via zoom : https://us06web.zoom.us/j/81463900089\nEntrée libre sans réservation\nPlus d'informations ici\nDans le cadre du mois de la Francophonie 2024\, l’Agence Universitaire de la Francophonie (AUF) Moyen-Orient\, en partenariat avec l’Académie Goncourt\, organise une rencontre littéraire avec Jean-Baptiste Andrea\, lauréat du prix Goncourt 2023 pour son roman « Veiller sur elle » paru chez « L'Iconoclaste ». L’événement se tiendra en ligne le mercredi 20 mars\, à 15h00 heure du Liban (UTC+2)\, et sera animé par Salma Kojok\, romancière et présidente du Jury du Choix Goncourt de l’Orient. \n\n\nCe rendez-vous avec Jean-Baptiste Andrea sera l’occasion pour le public et les étudiants francophones du Moyen-Orient de pouvoir échanger directement avec le lauréat du prestigieux prix sur son ouvrage\, son actualité et sa carrière d’écrivain\, et aussi de découvrir la littérature francophone la plus contemporaine. \nQui est Jean-Baptiste Andrea ? \nNé en 1971 à  Saint-Germain-en-Laye\, Jean-Baptiste Andrea est un réalisateur\, scénariste et écrivain français. \nDiplômé de l’Institut d’études politiques de Paris et de l’ESCP\, il se lance dans un premier temps dans le cinéma\, et ensuite dans l’écriture de romans. Il publie son premier roman en 2017\, intitulé « Ma Reine »\, qui remporte plusieurs prix. \nEn 2019\, il publie son deuxième livre\, « Cent millions d’années et un jour » puis son troisième\, « Des diables et des saints » en 2021. \nEn 2023\, Jean-Baptiste Andrea publie son quatrième roman intitulé « Veiller sur elle ». Il est récompensé par le prix du roman FNAC 2023 et le prix Goncourt 2023. \nDans « Veiller sur elle »\, Andrea dévoile sa réflexion sur l’art\, l’amitié et la sortie de l’enfance en plongeant le lecteur dans la vie d’un sculpteur de génie. \nRejoindre la réunion via zoom : https://us06web.zoom.us/j/81463900089
URL:https://institutfrancais-liban.com/evenement/rencontres-litteraires/
LOCATION:En ligne\, Liban
CATEGORIES:Littérature,Livre et débats d’idées
ATTACH;FMTTYPE=image/png:https://institutfrancais-liban.com/wp-content/uploads/2024/02/FRANCOPHONIE2024-ENTETE-SITE-12.png
END:VEVENT
BEGIN:VEVENT
DTSTART;TZID=Asia/Beirut:20240320T170000
DTEND;TZID=Asia/Beirut:20240320T180000
DTSTAMP:20260419T181111
CREATED:20240229T123933Z
LAST-MODIFIED:20240314T121456Z
UID:10001211-1710954000-1710957600@institutfrancais-liban.com
SUMMARY:Géologie d'une fable - spectacle jeune public
DESCRIPTION:Dans le cadre de la journée de la Francophonie et de la réouverture du Cinéma Montaigne et de la Galerie\, découvrez le spectacle "Géologie d'une fable" à l'Institut français du Liban ! \nGéologie d'une fable est un projet de création pour le jeune public conçu et interprété par Aurélien Zouki et Éric Deniaud. La pièce associe le conte\, la danse\, la manipulation d'objets et de sons. L'élément central est l'argile en plaques superposées\, en tas\, en blocs\, en bas-relief\, modelée en direct\, etc. qui donne vie à des figures et des espaces. C'est à partir de cette matière première que les deux interprètes construisent la généalogie des fables et de leurs origines. \n  \nMercredi 20 mars à 17h - Institut français du Liban\, Beyrouth\nEntrée libre \nRéservation obligatoire\n  \n \nConception\, scénographie\, jeu : Aurélien Zouki et Éric Deniaud\nCréation sonore : Emmanuel Zouki\nTechnique : Tamara Baddredine\nDurée du spectacle : 45 mn\nÀ partir de 6 ans
URL:https://institutfrancais-liban.com/evenement/geologie-dune-fable-spectacle-jeune-public/
LOCATION:Institut français du liban\, Beyrouth\, Rue de Damas\, Beyrouth\, Liban
CATEGORIES:Jeune Public,Spectacle vivant
ATTACH;FMTTYPE=image/png:https://institutfrancais-liban.com/wp-content/uploads/2024/02/FRANCOPHONIE2024-ENTETE-SITE-14.png
END:VEVENT
BEGIN:VEVENT
DTSTART;TZID=Asia/Beirut:20240320T170000
DTEND;TZID=Asia/Beirut:20240320T210000
DTSTAMP:20260419T181111
CREATED:20240226T160910Z
LAST-MODIFIED:20240226T160948Z
UID:10001198-1710954000-1710968400@institutfrancais-liban.com
SUMMARY:Soirée culinaire et musicale à Jounieh
DESCRIPTION:L’Institut français de Jounieh\, l’association Mon Liban d’Azur et l’Institut de Gestion des Entreprises de l’USJ s'associent pour organiser une soirée culinaire et musicale unique\, mettant en avant la francophonie. Cet événement se déroulera le 20 mars de 17h à 21h à l'Institut français de Jounieh.\nAu cœur de cette expérience culinaire\, deux chefs prestigieux seront mis en lumière : Julien Diaz\, chef étoilé français\, et Charles Azar\, talentueux chef libanais. Ensemble\, ils partageront leur art à travers une fusion de la gastronomie française et libanaise. \nVous pourrez également profiter de stands de cuisine live et de l'ambiance festive créée par le groupe de musique Police Voleur\, qui interprétera des chansons pop françaises et libanaises. \nTous les professeurs de français des régions du Keserwen\, de Jbeil et du Maten Nord auront l'opportunité de participer à un jeu de hasard exclusif\, avec la chance de remporter à la clé un billet d'avion pour la France et une formation FLE. \nMercredi 20 mars de 17h à 21h\nInstitut français du Liban - Jounieh\nTout public\nSans réservation\, plus d’information par email : info.ifjounieh@if-liban.com
URL:https://institutfrancais-liban.com/evenement/soiree-de-la-francophonie/
LOCATION:Institut français du Liban\, Jounieh
CATEGORIES:Performance
ATTACH;FMTTYPE=image/png:https://institutfrancais-liban.com/wp-content/uploads/2024/02/4-1.png
END:VEVENT
END:VCALENDAR