BEGIN:VCALENDAR
VERSION:2.0
PRODID:-//Institut français du Liban - ECPv6.2.8.2//NONSGML v1.0//EN
CALSCALE:GREGORIAN
METHOD:PUBLISH
X-ORIGINAL-URL:https://institutfrancais-liban.com
X-WR-CALDESC:évènements pour Institut français du Liban
REFRESH-INTERVAL;VALUE=DURATION:PT1H
X-Robots-Tag:noindex
X-PUBLISHED-TTL:PT1H
BEGIN:VTIMEZONE
TZID:Asia/Beirut
BEGIN:DAYLIGHT
TZOFFSETFROM:+0200
TZOFFSETTO:+0300
TZNAME:EEST
DTSTART:20240330T220000
END:DAYLIGHT
BEGIN:STANDARD
TZOFFSETFROM:+0300
TZOFFSETTO:+0200
TZNAME:EET
DTSTART:20241026T210000
END:STANDARD
END:VTIMEZONE
BEGIN:VEVENT
DTSTART;VALUE=DATE:20240530
DTEND;VALUE=DATE:20240603
DTSTAMP:20260426T033935
CREATED:20231222T175542Z
LAST-MODIFIED:20240521T183055Z
UID:10001138-1717027200-1717372799@institutfrancais-liban.com
SUMMARY:Le Grand week-end du cinéma français
DESCRIPTION:Du 30 mai au 2 juin 2024\, le Grand week-end du cinéma français fait son grand retour pour sa deuxième édition à Beyrouth en partenariat avec le Festival du Film Francophone d’Angoulême ! \nPendant quatre jours\, le cinéma français sera mis à l’honneur avec la projection de 5 films issus de la reprise du festival à l'Institut français du Liban à Beyrouth. \nEnglish :\nFrom 30th May till June 2nd \, the “Grand Week-end du cinéma français" returns  for its second edition in Beirut\, in partnership with the Angouleme Francophone Film Festival. For four days\, the French cinema will be celebrated by screening 5 films selected by the FFA\, hosted at the French Institute of Lebanon\, in Beirut! \nLe calendrier / The program\nJEUDI 30 MAI / THURSDAY MAY 30\n19h30 Ouverture / Opening\n20h PREMIÈRE AFFAIRE \nVENDREDI 31 MAI / FRIDAY MAY 31\n18h TONI EN FAMILLE\n20h30 RIEN À PERDRE \nSAMEDI 1er JUIN / SATURDAY JUNE 1ST\n15h30 RIEN À PERDRE\n18h PREMIÈRE AFFAIRE\n20h30 LA VIE DE MA MÈRE \nDIMANCHE 2 JUIN / SUNDAY JUNE 2nd\n15h30 TONI EN FAMILLE\n18h LA VIE DE MA MERE\n20h30 LE TEMPS D’AIMER \nENTRÉE LIBRE ET GRATUITE / FREE ENTRY\nCINÉMA MONTAIGNE\nINSTITUT FRANÇAIS DU LIBAN \nLes Invités / Invited Guests\nEn présence de Victoria Musiedlak et Noée Abita.\nWith the attendance of Victoria Musiedlak and Noée Abita.\n \n\nLes films\nPremière Affaire\nDe Victoria MUSIEDLAK \n2024  | 1h 38min | Drame\nAvec Noée Abita\, Anders Danielsen Lie\, Alexis Neises \n \nJeune avocate fraichement diplômée\, Nora a l'impression de n'avoir rien vécu lorsqu'elle est propulsée dans sa première affaire pénale. De sa première garde à vue au suivi de l’instruction\, Nora découvre la cruauté du monde qui l’entoure\, dans sa vie intime comme professionnelle. Emportée par la frénésie de sa nouvelle vie\, elle multiplie les erreurs et en vient à questionner ses choix. \nNora\, a young lawyer\, who has freshly graduated\, feels overwhelmed and inexperienced when is handed her first criminal case. From her initial time in police custody to the depth of the investigation\, Nora begins to discover the harsh and cruel world she lives in; both personally and professionally. Taken away by the whirlwind of her new life\, Nora makes numerous mistakes and begins to question her choices. \n  \nRien à perdre\nDe Delphine DELOGET \n2023  | 1h 52min | Drame\nAvec Virginie Efira\, Félix Lefebvre\, Arieh Worthalter \n \nSylvie vit à Brest avec ses deux enfants\, Sofiane et Jean-Jacques. Une nuit\, Sofiane se blesse alors qu’il est seul dans l’appartement. Les services sociaux sont alertés et placent l’enfant en foyer\, le temps de mener une enquête. Persuadée d’être victime d’une erreur judiciaire\, Sylvie se lance dans un combat pour récupérer son fils.\n\nSylvie lives in Brest with her two children\, Sofiane and Jean-Jacques. One night\, while Sofiane is alone in the apartment\, he injures himself.  Social services are alerted and take Sofiane to a foster care\, by the time they conduct an investigation. Convinced that she is the victim of injustice\, Sylvie embarks on a battle to win her son back. \n  \nLe Temps d'aimer\nDe Katell QUILLÉVÉRÉ \n2023  | 2h 05min | Drame Tout public avec avertissement\nAvec Anaïs Demoustier\, Vincent Lacoste\, Morgan Bailey \n \n1947. Sur une plage\, Madeleine\, serveuse dans un hôtel-restaurant\, mère d’un petit garçon\, fait la connaissance de François\, étudiant riche et cultivé. Entre eux\, c’est comme une évidence. La providence. Si l’on sait ce qu’elle veut laisser derrière elle en suivant ce jeune homme\, on découvre avec le temps ce que François tente de fuir en mêlant le destin de Madeleine au sien...\n\nIn 1947\, at a beach\, Madelaine\, a waitress in a hotel-restaurant and mother of a small boy\, meets François\, a wealthy and educated student. Between them it’s obvious. If we only know what she wants to leave behind to pursue this young man\, we discover overtime that François also tends to escape by intertwining Madelaine’s fate with his own. \n  \nLa vie de ma mère\nDe Julien CARPENTIER \n2024 | 1h 43min | Comédie dramatique\nAvec Agnès Jaoui\, William Lebghil\, Salif Cissé \n \nPierre\, 33 ans\, fleuriste à succès\, voit sa vie basculer lorsque sa mère\, Judith\, fantasque et excessive\, débarque dans sa vie après deux ans sans se voir. Pierre n’a qu’une idée\, reprendre le cours normal de sa vie\, mais rien ne se passe comme prévu. Leurs retrouvailles\, aussi inattendues qu’explosives\, vont transformer Pierre et Judith à jamais. \n\nPierre 33\, a successful florist\, sees his life fall apart when his mother Judith whimsical and excessive\, suddenly shows up in his life after 2 years of not seeing each other. Pierre thinks of going on with his life normally\, but nothing goes as planned. Their unexpected reunion will change Pierre and Judith forever. \n  \n\nToni\, en famille\nDe Nathan AMBROSIONI \n2023 | 1h 36min | Comédie\, comédie dramatique\nAvec Camille Cottin\, Léa Lopez\, Thomas Gioria \n \nAntonia\, dite Toni\, élève seule ses cinq enfants. Un job à plein temps. Elle chante aussi le soir\, dans des bars\, car il faut bien nourrir sa famille. Toni a du talent. Elle a enregistré un single qui a cartonné. Mais ça\, c’était il y a 20 ans. Aujourd’hui ses deux aînés s’apprêtent à rejoindre l’université. Alors Toni s’interroge : que fera-t-elle quand toute sa progéniture aura quitté le foyer ? A 43 ans\, est-il encore temps de reprendre sa vie en main ?\n\nAntonia\, who goes by Toni \, is a single mother to 5 children. A full time job. She also sings in the evening\, in bars; she has to provide for her family. Toni is talented; she recorded a single that was a hit. That was 20 years ago. Today her two eldest are getting ready for college. Toni begins to question herself: what will she do when they have all left home? is it not late to get her life again at 43? \n- \n \n 
URL:https://institutfrancais-liban.com/evenement/grand-week-end-du-cinema/
LOCATION:Institut français du liban\, Beyrouth\, Rue de Damas\, Beyrouth\, Liban
CATEGORIES:Cinéma,Temps fort
ATTACH;FMTTYPE=image/png:https://institutfrancais-liban.com/wp-content/uploads/2023/12/Entete-event-site-960-x-400-px-3-1.png
END:VEVENT
BEGIN:VEVENT
DTSTART;VALUE=DATE:20240530
DTEND;VALUE=DATE:20240701
DTSTAMP:20260426T033935
CREATED:20240519T192547Z
LAST-MODIFIED:20240524T164046Z
UID:10001226-1717027200-1719791999@institutfrancais-liban.com
SUMMARY:@beirut_streets de Karim Sakr
DESCRIPTION:@beirut_streets\nDe Karim Sakr\n\n\n@beirut_streets par @karimsakrphoto\nPOP-UP - Exposition et vente\n\n\nDu 30 mai au 30 juin\nOuverture le jeudi 30 mai à 19h\n\n\nGalerie de l’Institut français du Liban\nRue de Damas - Beyrouth\n\n\nÀ l’occasion de la seconde édition du « Grand week-end du cinéma français » à Beyrouth\, l’Institut français du Liban a donné carte blanche à Karim Sakr.\nKarim Sakr immortalise les rues\, les habitants\, et les moments furtifs et authentiques de Beyrouth et des régions libanaises. C’est pourquoi nous avons choisi l’une de ses images pour illustrer l’affiche du « Grand week-end du cinéma français 2024 ».\nPlongez dans son univers et découvrez le Liban à travers son regard sincère et engagé.\nHoraires d’ouverture :\nVendredi 31 mai\, samedi 1er juin et dimanche 2 juin : de 15h à 21h\nÀ partir du 3 juin : Lundi et vendredi de 11h à 14h\, mardi et jeudi de 18h à 20h\, mercredi de 15h à 17h\nEntrée gratuite\n\n\n` \n \nEntrée libre et gratuite.
URL:https://institutfrancais-liban.com/evenement/exposition-photo-beirut_streets-de-karim-sakr/
LOCATION:Institut français du liban\, Beyrouth\, Rue de Damas\, Beyrouth\, Liban
CATEGORIES:Exposition
ATTACH;FMTTYPE=image/png:https://institutfrancais-liban.com/wp-content/uploads/2024/05/Entete-event-site-960-x-400-px-5.png
END:VEVENT
END:VCALENDAR