BEGIN:VCALENDAR
VERSION:2.0
PRODID:-//Institut français du Liban - ECPv6.2.8.2//NONSGML v1.0//EN
CALSCALE:GREGORIAN
METHOD:PUBLISH
X-WR-CALNAME:Institut français du Liban
X-ORIGINAL-URL:https://institutfrancais-liban.com
X-WR-CALDESC:évènements pour Institut français du Liban
REFRESH-INTERVAL;VALUE=DURATION:PT1H
X-Robots-Tag:noindex
X-PUBLISHED-TTL:PT1H
BEGIN:VTIMEZONE
TZID:Asia/Beirut
BEGIN:DAYLIGHT
TZOFFSETFROM:+0200
TZOFFSETTO:+0300
TZNAME:EEST
DTSTART:20250329T220000
END:DAYLIGHT
BEGIN:STANDARD
TZOFFSETFROM:+0300
TZOFFSETTO:+0200
TZNAME:EET
DTSTART:20251025T210000
END:STANDARD
END:VTIMEZONE
BEGIN:VEVENT
DTSTART;VALUE=DATE:20250318
DTEND;VALUE=DATE:20250329
DTSTAMP:20260420T045307
CREATED:20250318T104549Z
LAST-MODIFIED:20250318T104651Z
UID:10001255-1742256000-1743206399@institutfrancais-liban.com
SUMMARY:Le Souk Solidaire - Appel à participation
DESCRIPTION:Le Souk Solidaire fait son grand retour !\nAprès le succès de la première édition en 2023\, nous sommes ravis de vous annoncer la tenue du prochain Souk Solidaire 2025. \nSous le patronage de l’ambassadeur de France au liban\, M. Hervé Magro et en sa présence\, les Représentants du personnel de l’Ambassade de France au Liban\, en collaboration avec France Volontaires et l’appui logistique de l’Institut français du Liban\, organisent sa nouvelle édition :   \n. Vendredi 9 mai 2025 de 16h à 22h \n. Samedi 10 mai 2025\, de 12h à 22h \nsur le campus de l’Ambassade de France au Liban. \nComme lors de la première édition\, ce marché mettra gratuitement à disposition des ONGs et des artisans de la région un espace d’exposition au sein de l’Ambassade. \nCet événement vise à : \n. Soutenir les associations qui préservent les métiers de l’artisanat et viennent en aide aux plus démunis.\n. Mettre en valeur les initiatives locales et les talents artisanaux. \nLes structures solidaires engagées dans la fabrication de produits artisanaux ou dans des projets de développement local sont invitées à candidater. \nL’intégralité des recettes de ce marché reviendra aux associations présentes. \nLe nombre de places étant limité\, un comité effectuera une sélection des participants. \nIntéressés ? Rejoignez le Souk Solidaire en déposant votre candidature à rp.liban@ambafrance-anmo.fr avant le 28 mars 2025. \n  \nVotre dossier devra inclure : \n. Une présentation de votre structure ou association (2 pages maximum) ;\n. Une courte lettre motivant votre souhait de participer ;\n. Une liste des produits que vous souhaitez exposer et leur prix unitaire. \nLes associations retenues seront informées au plus tard le 10 avril 2025. \nNous espérons vous compter parmi nous pour faire de ce marché un moment de partage et de solidarité. \nRe-Venez Souker !
URL:https://institutfrancais-liban.com/evenement/le-souk-solidaire-appel-a-participation/
CATEGORIES:Appel à participation
ATTACH;FMTTYPE=image/jpeg:https://institutfrancais-liban.com/wp-content/uploads/2025/03/Entete-event-site-960-x-400-px-2-scaled.jpg
END:VEVENT
END:VCALENDAR