BEGIN:VCALENDAR
VERSION:2.0
PRODID:-//Institut français du Liban - ECPv6.2.8.2//NONSGML v1.0//EN
CALSCALE:GREGORIAN
METHOD:PUBLISH
X-ORIGINAL-URL:https://institutfrancais-liban.com
X-WR-CALDESC:évènements pour Institut français du Liban
REFRESH-INTERVAL;VALUE=DURATION:PT1H
X-Robots-Tag:noindex
X-PUBLISHED-TTL:PT1H
BEGIN:VTIMEZONE
TZID:Asia/Beirut
BEGIN:DAYLIGHT
TZOFFSETFROM:+0200
TZOFFSETTO:+0300
TZNAME:EEST
DTSTART:20250329T220000
END:DAYLIGHT
BEGIN:STANDARD
TZOFFSETFROM:+0300
TZOFFSETTO:+0200
TZNAME:EET
DTSTART:20251025T210000
END:STANDARD
END:VTIMEZONE
BEGIN:VEVENT
DTSTART;VALUE=DATE:20250925
DTEND;VALUE=DATE:20250927
DTSTAMP:20260422T151349
CREATED:20250904T073748Z
LAST-MODIFIED:20250912T064723Z
UID:10001274-1758758400-1758931199@institutfrancais-liban.com
SUMMARY:Carte blanche à Wissam Charaf
DESCRIPTION:L’Institut français du Liban donne carte blanche à Wissam Charaf les 25 et 26 septembre. \nAprès avoir été en 2025\, l'invité d’honneur du Festival de Clermont-Ferrand qui lui a consacré une rétrospective et une Masterclass\, Wissam Charaf prend ses quartiers pour 2 soirées exceptionnelles à l’IFL. \nLe réalisateur et journaliste franco-libanais présentera ses films en compagnie de la réalisatrice Liana Kassir. Les projections seront suivies d’un Q&R avec le public. \nLe Liban\, où il a vécu les 25 premières années de sa vie est au cœur de ses films qui sont une plongée dans un univers burlesque\, insolite et politique. Ses histoires racontent souvent la vie de loosers rongés par l'ennui\, la guerre\, la mélancolie\, le travail\, et qui trouvent le salut dans une douceur teintée d'espoir\, où le beau côtoie l'absurde. \n  \nJeudi 25 septembre à 19h30\nL’ARMÉE DES FOURMIS  \n2007\, Fiction\, 23 minutes \nAu sud du Liban\, on trouve parfois de curieux objets dans le sol. Au point de perdre son travail et de se perdre soi-même… \n  \n  \nHIZZ YA WIZZ  \n2005\, Fiction\, 26 minutes \nAli est l’assistant d’un photographe sportif. Il est amoureux d’une jeune femme qu’il a aperçue lorsqu’elle participait à une compétition équestre. Ne sachant pas comment la séduire\, il demande conseil à sa sœur. \n \n  \nSOUVENIR INOUBLIABLE D’UN AMI  \n2018\, Fiction\, 25 minutes \nAu Liban\, Chadi\, un garçon de 13 ans\, premier de sa classe\, découvre qu’il peut monnayer son talent… Si ce n’est pas encore pour de l’argent\, ce sera pour gagner l’intérêt de la jolie Raya à qui il n’ose pas parler. \n \n  \nET SI LE SOLEIL PLONGEAIT DANS L’OCEAN DES NUES \n2023\, fiction\, 20 minutes \nAvec Raed Yassin\, Rodrigue Sleiman\, Said Serhan\, Hala Dabaji \nAu Liban\, sur le chantier du front de mer\, Raed\, agent de sécurité doit empêcher les promeneurs d'accéder en bord de mer. Mais alors que l'horizon est bouché chaque jour d’avantage par le chantier\, Raed fait des rencontres singulières. Rêves ou incarnations de ses désirs ? \n \n  \nVendredi 26 septembre à 19h30\nTOMBE DU CIEL \n2016\, Fiction\, 70 minutes \nAvec Raed Yassin\, Rodrigue Sleiman\, Said Serhan\, Yumna Marwan \nAprès 20 ans de séparation\, Samir\, ancien milicien présumé mort réapparaît dans la vie d’Omar\, son petit frères devenu garde du corps à Beyrouth. Entre drame et comédie\, Samir doit se confronter à un pays qui ne lui appartient plus. \n \n 
URL:https://institutfrancais-liban.com/evenement/projections-de-wissam-charaf/
CATEGORIES:Cinéma
ATTACH;FMTTYPE=image/jpeg:https://institutfrancais-liban.com/wp-content/uploads/2025/09/Entete-event-site-960-x-400-px-1.jpg
END:VEVENT
END:VCALENDAR