BEGIN:VCALENDAR
VERSION:2.0
PRODID:-//Institut français du Liban - ECPv6.2.8.2//NONSGML v1.0//EN
CALSCALE:GREGORIAN
METHOD:PUBLISH
X-ORIGINAL-URL:https://institutfrancais-liban.com
X-WR-CALDESC:évènements pour Institut français du Liban
REFRESH-INTERVAL;VALUE=DURATION:PT1H
X-Robots-Tag:noindex
X-PUBLISHED-TTL:PT1H
BEGIN:VTIMEZONE
TZID:Asia/Beirut
BEGIN:DAYLIGHT
TZOFFSETFROM:+0200
TZOFFSETTO:+0300
TZNAME:EEST
DTSTART:20250329T220000
END:DAYLIGHT
BEGIN:STANDARD
TZOFFSETFROM:+0300
TZOFFSETTO:+0200
TZNAME:EET
DTSTART:20251025T210000
END:STANDARD
END:VTIMEZONE
BEGIN:VEVENT
DTSTART;VALUE=DATE:20250929
DTEND;VALUE=DATE:20251021
DTSTAMP:20260422T134126
CREATED:20250929T071837Z
LAST-MODIFIED:20251020T064919Z
UID:10001277-1759104000-1761004799@institutfrancais-liban.com
SUMMARY:Quand la justice entre en scène
DESCRIPTION:Chaque lundi du 29 septembre au lundi 20 octobre \nEn partenariat avec le Ministère de la Justice libanais\, l’Institut français du Liban vous invite à un cycle inédit de projections et débats gratuit autour de la justice. \nQuatre  séances de grands classiques du cinéma français et d’un film libanais portant sur la justice sont proposés au grand public\, avec pour ambition de créer un espace vivant de réflexion collective et d’échange citoyen. \n\nUn dialogue entre cinéma et justice\nL’initiative « Justice et Cinéma » portée par le Ministère de la Justice\, en partenariat avec l’Institut français du Liban et Metropolis\, explore la représentation de la justice à travers le prisme du cinéma et favorise une discussion ouverte. Ainsi les projections seront suivies d’un débat vivant d’une heure animé par un panel varié : responsables politiques\, producteurs\, professeurs de droit\, anciens détenus et autres invités. \nRetrouvez le programme des quatre projections : \n\nLundi 29 septembre à 19h30 au cinéma Metropolis: Les Risques du métier (André Cayatte\, 1967)\n\n. Un film dramatique français abordant le thème tabou de l'accusation injuste de pédophilie contre un instituteur\, interprété par Jacques Brel.\n. Débat avec Adel A. Nassar\, ministre de la Justice\, et Georges Schoucair\, producteur de film.\n. Version française sous-titrée en anglais. \n  \n\nLundi 6 octobre à 19h30 au cinéma Metropolis : Un Crime (Jacques Deray\, 1993)\n\n. Un film policier français dans lequel l'intrigue tourne autour d'un crime mystérieux et des tensions entre les personnages principaux\, notamment les rôles joués par Jean-Claude Brialy et Jean-Pierre Cassel.\n. Débat avec Hervé Lecuyer\, professeur en droit privé\, et Myriam Sassine\, productrice de film.\n. Version française sous-titrée en anglais.  \n  \n\nLundi 13 octobre à 19h30 au cinéma Montaigne à l’Institut français du Liban : 12 Angry Lebanese Men : The documentary (Zeina Daccache\, 2009)\n\n. Un film documentaire libanais qui suit le processus de création d'une adaptation de la pièce Twelve Angry Men de Reginald Rose\, renommée 12 Angry Lebanese\, par des détenus de la prison de Roumieh à Beyrouth. Le film explore comment le théâtre et la thérapie par le jeu dramatique peuvent transformer la vie des prisonniers.\n. Débat avec la réalisatrice ainsi que d’anciens détenus.\n. Version arabe sous-titrée en anglais. \n  \n\nLundi 20 octobre à 19h au cinéma Montaigne à l’Institut français du Liban : Le Président (Henry Verneuil\, 1961)\n\n. Le film se déroule dans un contexte de crise politique en France\, avec des références à la IVe République et aux défis économiques de l'époque.\n. Débat avec Adel A. Nassar\, ministre de la Justice\, et Bechara Mouzannar\, producteur et réalisateur.\n. Version française non sous-titrée.
URL:https://institutfrancais-liban.com/evenement/quand-la-justice-entre-en-scene/
CATEGORIES:Cinéma
ATTACH;FMTTYPE=image/jpeg:https://institutfrancais-liban.com/wp-content/uploads/2025/09/Entete-event-site-960-x-400-px-3.jpg
END:VEVENT
END:VCALENDAR