BEGIN:VCALENDAR
VERSION:2.0
PRODID:-//Institut français du Liban - ECPv6.2.8.2//NONSGML v1.0//EN
CALSCALE:GREGORIAN
METHOD:PUBLISH
X-WR-CALNAME:Institut français du Liban
X-ORIGINAL-URL:https://institutfrancais-liban.com
X-WR-CALDESC:évènements pour Institut français du Liban
REFRESH-INTERVAL;VALUE=DURATION:PT1H
X-Robots-Tag:noindex
X-PUBLISHED-TTL:PT1H
BEGIN:VTIMEZONE
TZID:Asia/Beirut
BEGIN:DAYLIGHT
TZOFFSETFROM:+0200
TZOFFSETTO:+0300
TZNAME:EEST
DTSTART:20230325T220000
END:DAYLIGHT
BEGIN:STANDARD
TZOFFSETFROM:+0300
TZOFFSETTO:+0200
TZNAME:EET
DTSTART:20231028T210000
END:STANDARD
END:VTIMEZONE
BEGIN:VEVENT
DTSTART;VALUE=DATE:20230524
DTEND;VALUE=DATE:20230525
DTSTAMP:20260424T052845
CREATED:20231223T115509Z
LAST-MODIFIED:20231223T115509Z
UID:10001154-1684886400-1684972799@institutfrancais-liban.com
SUMMARY:France AlumniDay 2023 : rencontres\, échanges\, témoignages\, karaoké !
DESCRIPTION:L'Institut français du Liban et Campus France Liban organisent une soirée en l’honneur des alumni libanais ayant étudié en France ! \nL’événement aura lieu le 24 mai 2023 de 18h à 21h dans les jardins de l'Institut français du Liban\, rue de Damas\, Beyrouth. \n \nCette soirée FranceAlumni sera d’abord rythmée par un moment de rencontres\, d’échanges et de témoignages d’alumni\, au cours duquel vous pourrez rejoindre notre réseau et étendre le vôtre ! Venez ainsi rencontrer d’autres alumni libanais autour d’un buffet aux goûts de France et prolonger la soirée avec un karaoké chansons françaises (#NosAlumniOntDuTalent) ! \nInscrivez-vous sur ce lien et retrouvez-nous nombreux !\n \n 
URL:https://institutfrancais-liban.com/evenement/france-alumniday-2023-rencontres-echanges-temoignages-karaoke/
CATEGORIES:Campus France,Conférence,Temps fort
ATTACH;FMTTYPE=image/png:https://institutfrancais-liban.com/wp-content/uploads/2023/12/9-1.png
END:VEVENT
END:VCALENDAR