BEGIN:VCALENDAR
VERSION:2.0
PRODID:-//Institut français du Liban - ECPv6.2.8.2//NONSGML v1.0//EN
CALSCALE:GREGORIAN
METHOD:PUBLISH
X-WR-CALNAME:Institut français du Liban
X-ORIGINAL-URL:https://institutfrancais-liban.com
X-WR-CALDESC:évènements pour Institut français du Liban
REFRESH-INTERVAL;VALUE=DURATION:PT1H
X-Robots-Tag:noindex
X-PUBLISHED-TTL:PT1H
BEGIN:VTIMEZONE
TZID:Asia/Beirut
BEGIN:DAYLIGHT
TZOFFSETFROM:+0200
TZOFFSETTO:+0300
TZNAME:EEST
DTSTART:20240330T220000
END:DAYLIGHT
BEGIN:STANDARD
TZOFFSETFROM:+0300
TZOFFSETTO:+0200
TZNAME:EET
DTSTART:20241026T210000
END:STANDARD
END:VTIMEZONE
BEGIN:VEVENT
DTSTART;TZID=Asia/Beirut:20240318T150000
DTEND;TZID=Asia/Beirut:20240318T150000
DTSTAMP:20260423T130846
CREATED:20240226T160042Z
LAST-MODIFIED:20240226T160042Z
UID:10001197-1710774000-1710774000@institutfrancais-liban.com
SUMMARY:Conférence « Femmes et sport au Liban »
DESCRIPTION:L’Institut français de Jounieh en collaboration avec la NDU et la Sports Academy School ont le plaisir de vous convier à une conférence spéciale "Femme et Sport au Liban"\, qui se tiendra à l’occasion des Jeux Olympiques de Paris 2024. Cette conférence mettra en lumière le rôle et l'impact des femmes dans le domaine sportif libanais\, retraçant leurs parcours\, les défis et les enjeux auxquels elles sont confrontées dans le domaine sportif au Liban.\nÀ travers des témoignages inspirants\, nous aurons l'honneur de découvrir le parcours inspirant de femmes athlètes qui se sont distinguées sur la scène nationale et régionale\, et qui ont contribué à promouvoir la pratique sportive féminine au Liban. Nous aborderons les initiatives visant à promouvoir l'égalité des genres et à encourager la participation féminine dans toutes les disciplines sportives. \nNous vous invitons à rejoindre cette conversation enrichissante et captivante\, qui célèbre la force\, la détermination et le talent des femmes dans le sport libanais. \nConférence « Femmes et sport au Liban »\nLundi 18 mars à 15h (heure susceptible de changer)\nNDU - Jounieh\nTout public\nPlus d’informations sur WhatsApp au 71 086 029
URL:https://institutfrancais-liban.com/evenement/conference-femmes-et-sport-au-liban/
LOCATION:NDI\, Jounieh\, Liban
CATEGORIES:Conférence
ATTACH;FMTTYPE=image/png:https://institutfrancais-liban.com/wp-content/uploads/2024/02/7-1.png
END:VEVENT
END:VCALENDAR