BEGIN:VCALENDAR
VERSION:2.0
PRODID:-//Institut français du Liban - ECPv6.2.8.2//NONSGML v1.0//EN
CALSCALE:GREGORIAN
METHOD:PUBLISH
X-ORIGINAL-URL:https://institutfrancais-liban.com
X-WR-CALDESC:évènements pour Institut français du Liban
REFRESH-INTERVAL;VALUE=DURATION:PT1H
X-Robots-Tag:noindex
X-PUBLISHED-TTL:PT1H
BEGIN:VTIMEZONE
TZID:Asia/Beirut
BEGIN:DAYLIGHT
TZOFFSETFROM:+0200
TZOFFSETTO:+0300
TZNAME:EEST
DTSTART:20230325T220000
END:DAYLIGHT
BEGIN:STANDARD
TZOFFSETFROM:+0300
TZOFFSETTO:+0200
TZNAME:EET
DTSTART:20231028T210000
END:STANDARD
END:VTIMEZONE
BEGIN:VEVENT
DTSTART;VALUE=DATE:20231002
DTEND;VALUE=DATE:20231009
DTSTAMP:20260421T082251
CREATED:20231223T112800Z
LAST-MODIFIED:20231223T112829Z
UID:10001149-1696204800-1696809599@institutfrancais-liban.com
SUMMARY:Beyrouth Livres 2023 !
DESCRIPTION:Beyrouth Livres revient pour une 2ème édition du 2 au 8 octobre 2023 !\nPour l'occasion\, plus de 70 autrices et auteurs francophones feront le déplacement à Beyrouth. \nPendant toute une semaine\, une programmation variée mettra la littérature à l'honneur. \nRencontres littéraires\, lectures\, débats\, concerts-dessinés\, expositions\, spectacles et ateliers jeunesse auront lieu dans les lieux culturels emblématiques de Beyrouth et du Liban\, de Tripoli à Tyr en passant par Zahlé et Baalbeck. \nLes samedi 7 et 8 octobre\, le festival se terminera par un grand week-end sur le campus de l'Ecole Supérieure des Affaires (ESA) à Beyrouth. \nTous les évènements seront entièrement gratuits et accessibles pour tous. \nRetrouvez tout le programme en français et en arabe ici : \n \nEt retrouvez le dossier de presse en français et en arabe ici pour plus de détails : \n  \nProgramme VF - Beyrouth Livres 2023 \nProgramme AR - Beyrouth Livres 2023 \nDossier de presse AR - Beyrouth Livres 2023  \nDossier de presse VF - Beyrouth Livres 202
URL:https://institutfrancais-liban.com/evenement/beyrouth-livres-2023-du-2-au-8-octobre-2023/
CATEGORIES:Littérature,Livre et débats d’idées,Temps fort
ATTACH;FMTTYPE=image/png:https://institutfrancais-liban.com/wp-content/uploads/2023/12/Entete-event-site-960-x-400-px-2.png
END:VEVENT
END:VCALENDAR