BEGIN:VCALENDAR
VERSION:2.0
PRODID:-//Institut français du Liban - ECPv6.2.8.2//NONSGML v1.0//EN
CALSCALE:GREGORIAN
METHOD:PUBLISH
X-ORIGINAL-URL:https://institutfrancais-liban.com
X-WR-CALDESC:évènements pour Institut français du Liban
REFRESH-INTERVAL;VALUE=DURATION:PT1H
X-Robots-Tag:noindex
X-PUBLISHED-TTL:PT1H
BEGIN:VTIMEZONE
TZID:Asia/Beirut
BEGIN:DAYLIGHT
TZOFFSETFROM:+0200
TZOFFSETTO:+0300
TZNAME:EEST
DTSTART:20240330T220000
END:DAYLIGHT
BEGIN:STANDARD
TZOFFSETFROM:+0300
TZOFFSETTO:+0200
TZNAME:EET
DTSTART:20241026T210000
END:STANDARD
END:VTIMEZONE
BEGIN:VEVENT
DTSTART;VALUE=DATE:20240322
DTEND;VALUE=DATE:20240330
DTSTAMP:20260425T013618
CREATED:20240301T090612Z
LAST-MODIFIED:20240301T090725Z
UID:10001212-1711065600-1711756799@institutfrancais-liban.com
SUMMARY:Concours de lecture à voix haute : la grande finale !
DESCRIPTION:À l’occasion du Mois de la Francophonie de mars 2024\, le réseau des 6 médiathèques de l’Institut français du Liban* organisent un concours de lecture à voix-haute sur le thème du « Vivant ! ». Les inscriptions sont closes mais nous vous donnons rendez-vous pour la grande finale !\n  \nInstitut français du Liban - Beyrouth\nVendredi 22 mars à 16h30\nEntrée libre sans réservation\nPlus d'informations : mediatheque.beyrouth@if-liban.com \nInstitut français du Liban - Jounieh\nVendredi 22 mars à 17h\nEntrée libre sans réservation\nPlus d'informations : info.ifjounieh@if-liban.com / WhatsApp au 71 086 029 \nInstitut français du Liban - Saïda\nSamedi 23 mars à 11h30\nEntrée libre sans réservation\nPlus d'informations : sud@if-liban.com \nInstitut français du Liban - Zahlé\nMercredi 27 mars 16h\nEntrée libre sans réservation\nPlus d'informations : 70 273 549 \nInstitut français du Liban - Deir El Qamar \nMercredi 27 mars 16h30\nEntrée libre sans réservation\nPlus d'informations : 25 510 016 \nUSJ - Tripoli \nVendredi 29 mars à 15\nEntrée libre sans réservation\nPlus d'informations : tripoli@if-liban.com / 06442591 \nChaque médiathèque choisira ses meilleures lectures et sélectionnera : \n10 finalistes par catégorie d'âge qui viendront lire leur texte sur scène pour remporter le prix du jury de 30$ en bons d’achat en librairie.\n 3 finalistes par catégorie pour le prix Instagram de 15$ en bons d’achat en librairie.\n 3 finalistes par catégorie d’âge pour le prix Facebook de 15$ en bons d’achat en librairie. \n \n 
URL:https://institutfrancais-liban.com/evenement/concours-de-lecture-a-voix-haute-la-grande-finale/
LOCATION:Antennes de l'Institut français du Liban\, Liban
CATEGORIES:Littérature,Médiathèque
ATTACH;FMTTYPE=image/png:https://institutfrancais-liban.com/wp-content/uploads/2024/03/FRANCOPHONIE2024-ENTETE-SITE-20.png
END:VEVENT
END:VCALENDAR